BEGIN:VCALENDAR
VERSION:2.0
PRODID:-//FABBA - ECPv4.9.12//NONSGML v1.0//EN
CALSCALE:GREGORIAN
METHOD:PUBLISH
X-WR-CALNAME:FABBA
X-ORIGINAL-URL:http://fabba.com.au
X-WR-CALDESC:Events for FABBA
BEGIN:VTIMEZONE
TZID:Europe/Paris
BEGIN:DAYLIGHT
TZOFFSETFROM:+0100
TZOFFSETTO:+0200
TZNAME:CEST
DTSTART:20200329T010000
END:DAYLIGHT
BEGIN:STANDARD
TZOFFSETFROM:+0200
TZOFFSETTO:+0100
TZNAME:CET
DTSTART:20201025T010000
END:STANDARD
END:VTIMEZONE
BEGIN:VEVENT
DTSTART;VALUE=DATE:20200229
DTEND;VALUE=DATE:20200301
DTSTAMP:20200225T120203
CREATED:20200116T230104Z
LAST-MODIFIED:20200116T230104Z
UID:4183-1582934400-1583020799@fabba.com.au
SUMMARY:Erina Leagues Club
DESCRIPTION:
URL:http://fabba.com.au/event/erina-leagues-club/
END:VEVENT
BEGIN:VEVENT
DTSTART;VALUE=DATE:20200314
DTEND;VALUE=DATE:20200315
DTSTAMP:20200225T120203
CREATED:20191206T032045Z
LAST-MODIFIED:20191206T032045Z
UID:3810-1584144000-1584230399@fabba.com.au
SUMMARY:Jewells Tavern
DESCRIPTION:
URL:http://fabba.com.au/event/jewells-tavern/
END:VEVENT
BEGIN:VEVENT
DTSTART;VALUE=DATE:20200321
DTEND;VALUE=DATE:20200322
DTSTAMP:20200225T120203
CREATED:20191206T032108Z
LAST-MODIFIED:20191206T032108Z
UID:3812-1584748800-1584835199@fabba.com.au
SUMMARY:Juniors @ Malabar
DESCRIPTION:
URL:http://fabba.com.au/event/juniors-malabar/
END:VEVENT
BEGIN:VEVENT
DTSTART;VALUE=DATE:20200328
DTEND;VALUE=DATE:20200329
DTSTAMP:20200225T120203
CREATED:20200220T080201Z
LAST-MODIFIED:20200220T080201Z
UID:4442-1585353600-1585439999@fabba.com.au
SUMMARY:Club Mount Lewis
DESCRIPTION:
URL:http://fabba.com.au/event/club-mount-lewis/
END:VEVENT
BEGIN:VEVENT
DTSTART;VALUE=DATE:20200331
DTEND;VALUE=DATE:20200401
DTSTAMP:20200225T120203
CREATED:20191206T032122Z
LAST-MODIFIED:20191206T032122Z
UID:3814-1585612800-1585699199@fabba.com.au
SUMMARY:Twin Towns
DESCRIPTION:
URL:http://fabba.com.au/event/twin-towns/
END:VEVENT
BEGIN:VEVENT
DTSTART;VALUE=DATE:20200404
DTEND;VALUE=DATE:20200405
DTSTAMP:20200225T120203
CREATED:20191206T032144Z
LAST-MODIFIED:20191206T032144Z
UID:3816-1585958400-1586044799@fabba.com.au
SUMMARY:Ourimbah RSL
DESCRIPTION:
URL:http://fabba.com.au/event/ourimbah-rsl/
END:VEVENT
BEGIN:VEVENT
DTSTART;VALUE=DATE:20200418
DTEND;VALUE=DATE:20200419
DTSTAMP:20200225T120203
CREATED:20191029T040706Z
LAST-MODIFIED:20191029T040706Z
UID:3540-1587168000-1587254399@fabba.com.au
SUMMARY:Moruya Golf Club
DESCRIPTION:
URL:http://fabba.com.au/event/moruya-golf-club/
END:VEVENT
BEGIN:VEVENT
DTSTART;VALUE=DATE:20200419
DTEND;VALUE=DATE:20200420
DTSTAMP:20200225T120203
CREATED:20191029T040721Z
LAST-MODIFIED:20191029T040721Z
UID:3542-1587254400-1587340799@fabba.com.au
SUMMARY:Mittagong RSL
DESCRIPTION:
URL:http://fabba.com.au/event/mittagong-rsl/
END:VEVENT
BEGIN:VEVENT
DTSTART;VALUE=DATE:20200509
DTEND;VALUE=DATE:20200510
DTSTAMP:20200225T120203
CREATED:20191029T040751Z
LAST-MODIFIED:20191029T040751Z
UID:3544-1588982400-1589068799@fabba.com.au
SUMMARY:Wangi RSL
DESCRIPTION:
URL:http://fabba.com.au/event/wangi-rsl/
END:VEVENT
BEGIN:VEVENT
DTSTART;VALUE=DATE:20200516
DTEND;VALUE=DATE:20200517
DTSTAMP:20200225T120203
CREATED:20191029T040809Z
LAST-MODIFIED:20191029T040809Z
UID:3546-1589587200-1589673599@fabba.com.au
SUMMARY:North Ryde RSL (with Rod Stewart & Bee Gees Show)
DESCRIPTION:
URL:http://fabba.com.au/event/north-ryde-rsl-with-rod-stewart-bee-gees-show/
END:VEVENT
BEGIN:VEVENT
DTSTART;VALUE=DATE:20200523
DTEND;VALUE=DATE:20200524
DTSTAMP:20200225T120203
CREATED:20191206T032302Z
LAST-MODIFIED:20191217T055422Z
UID:3820-1590192000-1590278399@fabba.com.au
SUMMARY:Austral Bowling Club
DESCRIPTION:
URL:http://fabba.com.au/event/austral-bowling-club/
END:VEVENT
BEGIN:VEVENT
DTSTART;VALUE=DATE:20200529
DTEND;VALUE=DATE:20200530
DTSTAMP:20200225T120203
CREATED:20191206T032228Z
LAST-MODIFIED:20191206T032228Z
UID:3818-1590710400-1590796799@fabba.com.au
SUMMARY:Club Rivers
DESCRIPTION:
URL:http://fabba.com.au/event/club-rivers/
END:VEVENT
BEGIN:VEVENT
DTSTART;VALUE=DATE:20200530
DTEND;VALUE=DATE:20200531
DTSTAMP:20200225T120203
CREATED:20191029T040830Z
LAST-MODIFIED:20191029T040830Z
UID:3548-1590796800-1590883199@fabba.com.au
SUMMARY:Blacktown RSL (with Rod Stewart & Bee Gees Show)
DESCRIPTION:
URL:http://fabba.com.au/event/blacktown-rsl-with-rod-stewart-bee-gees-show/
END:VEVENT
BEGIN:VEVENT
DTSTART;VALUE=DATE:20200606
DTEND;VALUE=DATE:20200607
DTSTAMP:20200225T120203
CREATED:20191029T040847Z
LAST-MODIFIED:20191029T040847Z
UID:3550-1591401600-1591487999@fabba.com.au
SUMMARY:Viking Festival Sussex Inlet
DESCRIPTION:
URL:http://fabba.com.au/event/viking-festival-sussex-inlet/
END:VEVENT
BEGIN:VEVENT
DTSTART;VALUE=DATE:20200620
DTEND;VALUE=DATE:20200621
DTSTAMP:20200225T120203
CREATED:20191029T040902Z
LAST-MODIFIED:20191029T040902Z
UID:3552-1592611200-1592697599@fabba.com.au
SUMMARY:Picton Bowling Club
DESCRIPTION:
URL:http://fabba.com.au/event/picton-bowling-club/
END:VEVENT
BEGIN:VEVENT
DTSTART;VALUE=DATE:20200703
DTEND;VALUE=DATE:20200704
DTSTAMP:20200225T120203
CREATED:20200220T080241Z
LAST-MODIFIED:20200220T080241Z
UID:4444-1593734400-1593820799@fabba.com.au
SUMMARY:Club West Wyalong
DESCRIPTION:
URL:http://fabba.com.au/event/club-west-wyalong/
END:VEVENT
BEGIN:VEVENT
DTSTART;VALUE=DATE:20200704
DTEND;VALUE=DATE:20200705
DTSTAMP:20200225T120203
CREATED:20200220T080255Z
LAST-MODIFIED:20200220T080255Z
UID:4446-1593820800-1593907199@fabba.com.au
SUMMARY:Orange Bowling Club
DESCRIPTION:
URL:http://fabba.com.au/event/orange-bowling-club/
END:VEVENT
BEGIN:VEVENT
DTSTART;VALUE=DATE:20200710
DTEND;VALUE=DATE:20200711
DTSTAMP:20200225T120203
CREATED:20191029T040922Z
LAST-MODIFIED:20191206T032349Z
UID:3554-1594339200-1594425599@fabba.com.au
SUMMARY:Prince of Wales Hotel WA
DESCRIPTION:
URL:http://fabba.com.au/event/wa-tour/
END:VEVENT
BEGIN:VEVENT
DTSTART;VALUE=DATE:20200711
DTEND;VALUE=DATE:20200712
DTSTAMP:20200225T120203
CREATED:20191029T040941Z
LAST-MODIFIED:20191206T032339Z
UID:3556-1594425600-1594511999@fabba.com.au
SUMMARY:RSL Port Kennedy WA
DESCRIPTION:
URL:http://fabba.com.au/event/rsl-port-kennedy-wa/
END:VEVENT
BEGIN:VEVENT
DTSTART;VALUE=DATE:20200725
DTEND;VALUE=DATE:20200726
DTSTAMP:20200225T120203
CREATED:20191029T041037Z
LAST-MODIFIED:20191029T041037Z
UID:3562-1595635200-1595721599@fabba.com.au
SUMMARY:Everglades Country Club
DESCRIPTION:
URL:http://fabba.com.au/event/everglades-country-club/
END:VEVENT
BEGIN:VEVENT
DTSTART;VALUE=DATE:20200815
DTEND;VALUE=DATE:20200816
DTSTAMP:20200225T120203
CREATED:20191206T032457Z
LAST-MODIFIED:20191206T032457Z
UID:3823-1597449600-1597535999@fabba.com.au
SUMMARY:Dubbo RSL
DESCRIPTION:
URL:http://fabba.com.au/event/dubbo-rsl/
END:VEVENT
BEGIN:VEVENT
DTSTART;VALUE=DATE:20201024
DTEND;VALUE=DATE:20201025
DTSTAMP:20200225T120203
CREATED:20200220T080309Z
LAST-MODIFIED:20200220T080309Z
UID:4448-1603497600-1603583999@fabba.com.au
SUMMARY:Myall River Festival
DESCRIPTION:
URL:http://fabba.com.au/event/myall-river-festival/
END:VEVENT
END:VCALENDAR